BEGIN:VCALENDAR
VERSION:2.0
PRODID:-//eventon.com NONSGML v1.0//EN
CALSCALE:GREGORIAN
METHOD:PUBLISH
BEGIN:VEVENT
UID:69e4d42c231da
DTSTAMP:20260419T131004Z
DTSTART:20240717T090000Z
DTEND:20240717T140000Z
LOCATION:The Steam Museum The Great Western Hall\,  Fire Fly Ave\,  Swindon\,  SN2 2EY
SUMMARY:South West Expo (Swindon)
DESCRIPTION:South West Expo (Swindon) South West Expo is Swindon’s bigges
 t business networking &amp; educational event for Small Business Owners &am
 p; Entrepreneurs. Come join other passionate Business Owners and learn how 
 to increase revenue &amp; grow your business. Attending the South West Expo
  gives SMEs a huge advantage. Join over 1000[..]\nhttps://www.thamesvalleyc
 hamber.co.uk/new-events/south-west-expo-swindon/
URL:https://www.thamesvalleychamber.co.uk/new-events/south-west-expo-swindon/
END:VEVENT
END:VCALENDAR