BEGIN:VCALENDAR
VERSION:2.0
PRODID:-//eventon.com NONSGML v1.0//EN
CALSCALE:GREGORIAN
METHOD:PUBLISH
BEGIN:VEVENT
UID:69e4ead6b3505
DTSTAMP:20260419T144646Z
DTSTART:20240618T100000Z
DTEND:20240618T110000Z
LOCATION:Virtual
SUMMARY:Carbon Border Adjustment Mechanism (CBAM) Overview
DESCRIPTION:Carbon Border Adjustment Mechanism (CBAM) Overview Chambers Tra
 de Academy As part of our commitment to support businesses to navigate thei
 r international trade journey\,  we are pleased to launch a series of free 
 virtual sessions in partnership with a selected group of UK Chambers across
  the country. The purpose of these[..]\nhttps://www.thamesvalleychamber.co.
 uk/new-events/carbon-border-adjustment-mechanism-cbam-overview/
URL:https://www.thamesvalleychamber.co.uk/new-events/carbon-border-adjustment-mechanism-cbam-overview/
END:VEVENT
END:VCALENDAR