BEGIN:VCALENDAR
VERSION:2.0
PRODID:-//eventon.com NONSGML v1.0//EN
CALSCALE:GREGORIAN
METHOD:PUBLISH
BEGIN:VEVENT
UID:69ea48ddabca3
DTSTAMP:20260423T162917Z
DTSTART:20240222T183000Z
DTEND:20240222T213000Z
LOCATION:Cliveden House Cliveden Road\,  Taplow\,  MAIDENHEAD\,  Berkshire\,  SL6 0JF
SUMMARY:Business Alliance Dinner
DESCRIPTION:We are delighted to welcome our keynote speaker for this Busine
 ss Alliance dinner as Frank Bothwell\,  Founder and CEO\,  Thomas Franks. F
 rank Bothwell Founder and CEO Thomas Franks Frank will be talking about the
  history and story of Thomas Franks and his plans for the future\,  includi
 ng overseas expansion. This[..]\nhttps://www.thamesvalleychamber.co.uk/new-
 events/business-alliance-dinner-2/
URL:https://www.thamesvalleychamber.co.uk/new-events/business-alliance-dinner-2/
END:VEVENT
END:VCALENDAR