BEGIN:VCALENDAR
VERSION:2.0
PRODID:-//eventon.com NONSGML v1.0//EN
CALSCALE:GREGORIAN
METHOD:PUBLISH
BEGIN:VEVENT
UID:69ea33e1bdedb
DTSTAMP:20260423T145945Z
DTSTART:20240328T100000Z
DTEND:20240328T140000Z
LOCATION:DoubleTree by Hilton Swindon Lydiard Field\,  Swindon\,  Wiltshire\,  SN5 8UZ
SUMMARY:Swindon Business Expo
DESCRIPTION:Swindon Business Expo Join hundreds of local businesses at the 
 Swindon Business Expo&nbsp;which is taking place on Thursday 28th March 202
 4 at DoubleTree by Hilton. Why attend? Enjoy the opportunity to openly netw
 ork with over 250 attendees from across Swindon at this large business show
 \,  whilst exploring the exhibition packed[..]\nhttps://www.thamesvalleycha
 mber.co.uk/new-events/swindon-business-expo/
URL:https://www.thamesvalleychamber.co.uk/new-events/swindon-business-expo/
END:VEVENT
END:VCALENDAR