BEGIN:VCALENDAR
VERSION:2.0
PRODID:-//eventon.com NONSGML v1.0//EN
CALSCALE:GREGORIAN
METHOD:PUBLISH
BEGIN:VEVENT
UID:69ea33e259236
DTSTAMP:20260423T145946Z
DTSTART:20240425T090000Z
DTEND:20240425T130000Z
LOCATION:Green Park Conference Centre 100 Longwater Avenue Green Park\,  Reading\,  RG2 6GP
SUMMARY:Reading Business Expo
DESCRIPTION:Reading Business Expo Join hundreds of local businesses at the 
 Reading Business Expo which is taking place on Thursday 25th April 2024 at
  Green Park Conference Centre.  Why attend? Enjoy the opportunity to openl
 y network with over 250 attendees from across Berkshire at this large busin
 ess show\,  whilst exploring the exhibition[..]\nhttps://www.thamesvalleych
 amber.co.uk/new-events/reading-business-expo-2/
URL:https://www.thamesvalleychamber.co.uk/new-events/reading-business-expo-2/
END:VEVENT
END:VCALENDAR