BEGIN:VCALENDAR
VERSION:2.0
PRODID:-//eventon.com NONSGML v1.0//EN
CALSCALE:GREGORIAN
METHOD:PUBLISH
BEGIN:VEVENT
UID:69ea08765cffe
DTSTAMP:20260423T115430Z
DTSTART:20240306T093000Z
DTEND:20240306T113000Z
LOCATION:Newbury Racecourse PLC The Racecourse\,  NEWBURY\,  Berkshire\,  RG14 7NZ
SUMMARY:Meet the Chamber and Business Awards Launch
DESCRIPTION:Meet the Chamber and Business Awards Launch This event is set t
 o showcase the key sponsors as well as highlighting the categories that are
  up for grabs.&nbsp; Join us to find out all about the categories\,  entry 
 criteria and how to enter. It&#8217;s also an ideal networking opportunity\
 ,  so bring[..]\nhttps://www.thamesvalleychamber.co.uk/new-events/meet-the-
 chamber-and-business-awards-launch/
URL:https://www.thamesvalleychamber.co.uk/new-events/meet-the-chamber-and-business-awards-launch/
END:VEVENT
END:VCALENDAR