BEGIN:VCALENDAR
VERSION:2.0
PRODID:-//eventon.com NONSGML v1.0//EN
CALSCALE:GREGORIAN
METHOD:PUBLISH
BEGIN:VEVENT
UID:69e9f094424a8
DTSTAMP:20260423T101236Z
DTSTART:20240918T090000Z
DTEND:20240918T110000Z
LOCATION:PATCH Old Library\,  Queen Victoria Rd\,  High Wycombe HP11 1BG
SUMMARY:Buckinghamshire Business Networking and Meet The Chamber
DESCRIPTION:Buckinghamshire Business Networking and Meet the Chamber Bring 
 your company banner and join us for some quality business networking at the
  new location of PATCH. Grab the opportunity to get the latest news and upd
 ates from the Chamber\,  whilst doing some all important networking with bu
 sinesses from across the region.[..]\nhttps://www.thamesvalleychamber.co.uk
 /new-events/buckinghamshire-business-networking-and-meet-the-chamber-2/
URL:https://www.thamesvalleychamber.co.uk/new-events/buckinghamshire-business-networking-and-meet-the-chamber-2/
END:VEVENT
END:VCALENDAR