BEGIN:VCALENDAR
VERSION:2.0
PRODID:-//eventon.com NONSGML v1.0//EN
CALSCALE:GREGORIAN
METHOD:PUBLISH
BEGIN:VEVENT
UID:69ecd017c6ef1
DTSTAMP:20260425T143047Z
DTSTART:20260519T083000Z
DTEND:20260519T113000Z
LOCATION:The Oxfordshire Golf Hotel &amp; Spa Rycote Ln\,  Milton Common\,  Thame OX9 2PU
SUMMARY:P3 FORUM (People\,  Productivity\,  Purpose)​ - The Culture Advantage: turning values into business impact​
DESCRIPTION:P3 FORUM (People\,  Productivity\,  Purpose) The Culture Advant
 age: turning values into business impact​​ 15-year data from The Bank o
 f England shows productivity as near-flatlined across the UK\,  so we’ve 
 created the P3 Forum to focus on topics related to People\,  Productivity a
 nd Purpose with the aim of positively influencing the[..]\nhttps://www.tham
 esvalleychamber.co.uk/new-events/p3-forum-people-productivity-purpose-the-c
 ulture-advantage-turning-values-into-business-impact/
URL:https://www.thamesvalleychamber.co.uk/new-events/p3-forum-people-productivity-purpose-the-culture-advantage-turning-values-into-business-impact/
END:VEVENT
END:VCALENDAR