BEGIN:VCALENDAR
VERSION:2.0
PRODID:-//eventon.com NONSGML v1.0//EN
CALSCALE:GREGORIAN
METHOD:PUBLISH
BEGIN:VEVENT
UID:69ecd59fb1e8f
DTSTAMP:20260425T145423Z
DTSTART:20260715T083000Z
DTEND:20260715T110000Z
LOCATION:The Swan At Streatley High Street\,  Streatley-on-Thames\,  RG8 9HR
SUMMARY:Business 101 Roundtable: Smart Hiring\,  Safe Hiring
DESCRIPTION:Business 101 Roundtable Smart Hiring\,  Safe Hiring Business pl
 anning is critical for the success of a small business. It provides a roadm
 ap for navigating challenges\,  seizing opportunities\,  and achieving sust
 ainable growth. This practical and engaging roundtable is designed for anyo
 ne involved in recruiting\,  employing\,  or managing people. Whether you a
 re[..]\nhttps://www.thamesvalleychamber.co.uk/new-events/business-101-round
 table-smart-hiring-safe-hiring/
URL:https://www.thamesvalleychamber.co.uk/new-events/business-101-roundtable-smart-hiring-safe-hiring/
END:VEVENT
END:VCALENDAR