BEGIN:VCALENDAR
VERSION:2.0
PRODID:-//eventon.com NONSGML v1.0//EN
CALSCALE:GREGORIAN
METHOD:PUBLISH
BEGIN:VEVENT
UID:69ecd305e29f9
DTSTAMP:20260425T144317Z
DTSTART:20260610T083000Z
DTEND:20260610T120000Z
LOCATION:Virtual
SUMMARY:Introduction to CBAM for UK Exporters and Importers
DESCRIPTION:Introduction to CBAM for UK Exporters and Importers On 1 Octobe
 r 2023\,  the European Union’s Carbon Border Adjustment Mechanism (CBAM) 
 entered into application in its transitional phase. It is the EU’s flagsh
 ip measure to deal with carbon leakage &#8211; the outsourcing of productio
 n or supply chains to states where weaker[..]\nhttps://www.thamesvalleycham
 ber.co.uk/new-events/introduction-to-cbam-for-uk-exporters-and-importers/
URL:https://www.thamesvalleychamber.co.uk/new-events/introduction-to-cbam-for-uk-exporters-and-importers/
END:VEVENT
END:VCALENDAR