BEGIN:VCALENDAR
VERSION:2.0
PRODID:-//eventon.com NONSGML v1.0//EN
CALSCALE:GREGORIAN
METHOD:PUBLISH
BEGIN:VEVENT
UID:69e56a94e5ccc
DTSTAMP:20260419T235148Z
DTSTART:20260506T083000Z
DTEND:20260506T110000Z
LOCATION:Village Hotel Bracknell Bagshot Rd\,  BRACKNELL\,  Berkshire\,  RG12 0QJ
SUMMARY:Business 101 Roundtable – Lead the Project\,  Deliver the Message: Strategic Management & High Impact Communication
DESCRIPTION:Business 101 Roundtable Lead the Project\,  Deliver the Message
 : Strategic Management &amp; High Impact Communication Business planning is
  critical for the success of a small business. It provides a roadmap for na
 vigating challenges\,  seizing opportunities\,  and achieving sustainable g
 rowth. &nbsp; Project Management is the disciplined application of knowledg
 e\,  skills\,  tools\, [..]\nhttps://www.thamesvalleychamber.co.uk/new-even
 ts/business-101-roundtable-lead-the-project-deliver-the-message-strategic-m
 anagement-high-impact-communication/
URL:https://www.thamesvalleychamber.co.uk/new-events/business-101-roundtable-lead-the-project-deliver-the-message-strategic-management-high-impact-communication/
END:VEVENT
END:VCALENDAR