BEGIN:VCALENDAR
VERSION:2.0
PRODID:-//eventon.com NONSGML v1.0//EN
CALSCALE:GREGORIAN
METHOD:PUBLISH
BEGIN:VEVENT
UID:69ea3727c0168
DTSTAMP:20260423T151343Z
DTSTART:20260909T090000Z
DTEND:20260909T110000Z
LOCATION:Hilton Garden Inn Abingdon Oxford\,  Marcham Rd\,  Abingdon OX14 1TZ
SUMMARY:Oxfordshire Business Networking and Meet The Chamber
DESCRIPTION:Oxfordshire Business Networking and Meet The Chamber As we cont
 inue to bring together members\,  policy makers and investors to drive regi
 onal success\,  we are delighted to be back in Oxfordshire for our next Bus
 iness Networking event.&nbsp; Chamber members and guests are encouraged to 
 bring pop-up banners to showcase their business[..]\nhttps://www.thamesvall
 eychamber.co.uk/new-events/oxfordshire-business-networking-and-meet-the-cha
 mber-7/
URL:https://www.thamesvalleychamber.co.uk/new-events/oxfordshire-business-networking-and-meet-the-chamber-7/
END:VEVENT
END:VCALENDAR