BEGIN:VCALENDAR
VERSION:2.0
PRODID:-//eventon.com NONSGML v1.0//EN
CALSCALE:GREGORIAN
METHOD:PUBLISH
BEGIN:VEVENT
UID:69ea4f2b804c3
DTSTAMP:20260423T165611Z
DTSTART:20260709T090000Z
DTEND:20260709T140000Z
LOCATION:The Steam Museum The Great Western Hall\,  Fire Fly Ave\,  Swindon\,  SN2 2EY
SUMMARY:South West Expo (Swindon)
DESCRIPTION:South West Expo &#8211; Swindon The South West Expo is one of S
 windon’s biggest business networking and educational events for small bus
 iness owners and entrepreneurs. Come join other passionate business owners 
 and learn how to increase revenue and grow your business Make sure to visit
  our stand and catch up[..]\nhttps://www.thamesvalleychamber.co.uk/new-even
 ts/south-west-expo-swindon-3/
URL:https://www.thamesvalleychamber.co.uk/new-events/south-west-expo-swindon-3/
END:VEVENT
END:VCALENDAR