BEGIN:VCALENDAR
VERSION:2.0
PRODID:-//eventon.com NONSGML v1.0//EN
CALSCALE:GREGORIAN
METHOD:PUBLISH
BEGIN:VEVENT
UID:69e56a9c3bb7e
DTSTAMP:20260419T235156Z
DTSTART:20260625T073000Z
DTEND:20260625T090000Z
LOCATION:Awdry Law Ground Floor\,  2 Gateway North\,  Latham Road\,  SWINDON\,  Wiltshire\,  SN25 4DL
SUMMARY:Swindon Property Perspective
DESCRIPTION:Join host Tim Major for our next Swindon Property Perspective\,
   a valued and regular feature in the Thames Valley Chamber events calendar
 . This relaxed\,  informal session brings together professionals from acros
 s the commercial and residential property sectors\,  alongside experts in a
 ccountancy\,  finance\,  planning\,  and related industries. Gain insight i
 nto the[..]\nhttps://www.thamesvalleychamber.co.uk/new-events/swindon-prope
 rty-perspective-6/
URL:https://www.thamesvalleychamber.co.uk/new-events/swindon-property-perspective-6/
END:VEVENT
END:VCALENDAR