BEGIN:VCALENDAR
VERSION:2.0
PRODID:-//eventon.com NONSGML v1.0//EN
CALSCALE:GREGORIAN
METHOD:PUBLISH
BEGIN:VEVENT
UID:69e9eb8de61fb
DTSTAMP:20260423T095109Z
DTSTART:20260604T090000Z
DTEND:20260604T110000Z
LOCATION:Buckinghamshire New University - High Wycombe Campus Queen Alexandra Road\,  High Wycombe\,  Buckinghamshire\,  HP11 2JZ
SUMMARY:High Wycombe Business Networking and Meet The Chamber
DESCRIPTION:High Wycombe Business Networking and Meet the Chamber Join us f
 or our High Wycombe Networking event which we are hosting on the campus of 
 Buckinghamshire New University. Chamber members and guests are encouraged t
 o bring pop-up banners to showcase their business and engage in lively disc
 ussions and the event will[..]\nhttps://www.thamesvalleychamber.co.uk/new-e
 vents/buckinghamshire-business-networking-and-meet-the-chamber-6/
URL:https://www.thamesvalleychamber.co.uk/new-events/buckinghamshire-business-networking-and-meet-the-chamber-6/
END:VEVENT
END:VCALENDAR