BEGIN:VCALENDAR
VERSION:2.0
PRODID:-//eventon.com NONSGML v1.0//EN
CALSCALE:GREGORIAN
METHOD:PUBLISH
BEGIN:VEVENT
UID:69e9e9947c24c
DTSTAMP:20260423T094244Z
DTSTART:20260520T090000Z
DTEND:20260520T110000Z
LOCATION:3M United Kingdom plc 3M Centre\,  Cain Road\,  BRACKNELL\,  Berkshire\,  RG12 8HT
SUMMARY:Bracknell Business Networking and Meet The Chamber
DESCRIPTION:Bracknell Business Networking and Meet The Chamber We are delig
 hted to be hosting this Bracknell Networking event at the wonderful 3M Cent
 re\,  UK! Chamber members and guests are encouraged to bring pop-up banners
  to showcase their business and engage in lively discussions and the event 
 will include the opportunity to[..]\nhttps://www.thamesvalleychamber.co.uk/
 new-events/bracknell-business-networking-and-meet-the-chamber-6/
URL:https://www.thamesvalleychamber.co.uk/new-events/bracknell-business-networking-and-meet-the-chamber-6/
END:VEVENT
END:VCALENDAR