BEGIN:VCALENDAR
VERSION:2.0
PRODID:-//eventon.com NONSGML v1.0//EN
CALSCALE:GREGORIAN
METHOD:PUBLISH
BEGIN:VEVENT
UID:69ea00d59a42d
DTSTAMP:20260423T112157Z
DTSTART:20260302T094500Z
DTEND:20260302T120000Z
LOCATION:Mantle Space The Lambourn\,  Wyndyke Furlong\,  Abingdon\,  OX14 1UJ
SUMMARY:Business 101 Roundtable – Lessons in Leadership
DESCRIPTION:Business 101 Roundtable Lessons in Leadership Business planning
  is critical for the success of a small business. It provides a roadmap for
  navigating challenges\,  seizing opportunities\,  and achieving sustainabl
 e growth. &nbsp; Leadership involves inspiring\,  guiding\,  and influencin
 g others to achieve a shared goal or vision. Our Business 101 Roundtables o
 ffer[..]\nhttps://www.thamesvalleychamber.co.uk/new-events/business-101-rou
 ndtable-lessons-in-leadership/
URL:https://www.thamesvalleychamber.co.uk/new-events/business-101-roundtable-lessons-in-leadership/
END:VEVENT
END:VCALENDAR