BEGIN:VCALENDAR
VERSION:2.0
PRODID:-//eventon.com NONSGML v1.0//EN
CALSCALE:GREGORIAN
METHOD:PUBLISH
BEGIN:VEVENT
UID:69ea19857c133
DTSTAMP:20260423T130717Z
DTSTART:20260224T080000Z
DTEND:20260224T100000Z
LOCATION:The Journeyman 10 Packhorse Road Gerrards Cross\,  SL9 7QE
SUMMARY:Business Networking - How Great Brands Grow
DESCRIPTION:Business Networking &#8211; How Great Brands Grow Join our 2026
  Chamber charity of the year for their first senior business leadership bre
 akfast event of 2026 with multi award winning and global marketing leader J
 ames Peach. Talking on the theme Build to Scale – How Great Brands Grow\,
   James will draw[..]\nhttps://www.thamesvalleychamber.co.uk/new-events/sca
 nnappeal-business-breakfast/
URL:https://www.thamesvalleychamber.co.uk/new-events/scannappeal-business-breakfast/
END:VEVENT
END:VCALENDAR