BEGIN:VCALENDAR
VERSION:2.0
PRODID:-//eventon.com NONSGML v1.0//EN
CALSCALE:GREGORIAN
METHOD:PUBLISH
BEGIN:VEVENT
UID:69ea050c2ba9a
DTSTAMP:20260423T113956Z
DTSTART:20260312T120000Z
DTEND:20260312T140000Z
LOCATION:Macdonald Compleat Angler Marlow Bridge Lane\,  Marlow\,  Bucks\,  SL7 1RG
SUMMARY:Inspiring Lunch
DESCRIPTION:Inspiring Lunch New for 2026\,  the TVCC Inspiring Lunches are 
 designed to be positive\,  energised\,  and inspirational gatherings exclus
 ively for our Inspire members and above. These events bring together member
 s of TVCC to connect over a delicious lunch\,  hear from remarkable guest s
 peakers\,  spark new conversations\,  and strengthen the relationships[..]\
 nhttps://www.thamesvalleychamber.co.uk/new-events/inspiring-lunch/
URL:https://www.thamesvalleychamber.co.uk/new-events/inspiring-lunch/
END:VEVENT
END:VCALENDAR