BEGIN:VCALENDAR
VERSION:2.0
PRODID:-//eventon.com NONSGML v1.0//EN
CALSCALE:GREGORIAN
METHOD:PUBLISH
BEGIN:VEVENT
UID:69e9eb346fce9
DTSTAMP:20260423T094940Z
DTSTART:20260625T090000Z
DTEND:20260625T130000Z
LOCATION:Adams Park Stadium Hillbottom Road\,  High Wycombe\,  HP12 4HJ
SUMMARY:High Wycombe Business Expo
DESCRIPTION:High Wycombe&nbsp;Business Expo Join hundreds of local business
 es at the High Wycombe Business Expo&nbsp;which is taking place on Thursday
  25th June 2026 at Adams Park Stadium. Why attend? Enjoy the opportunity to
  openly network with over 250 attendees from across High Wycombe at this la
 rge business show\,  whilst exploring the[..]\nhttps://www.thamesvalleycham
 ber.co.uk/new-events/high-wycombe-business-expo-2/
URL:https://www.thamesvalleychamber.co.uk/new-events/high-wycombe-business-expo-2/
END:VEVENT
END:VCALENDAR