BEGIN:VCALENDAR
VERSION:2.0
PRODID:-//eventon.com NONSGML v1.0//EN
CALSCALE:GREGORIAN
METHOD:PUBLISH
BEGIN:VEVENT
UID:69e9e99a8b966
DTSTAMP:20260423T094250Z
DTSTART:20260423T090000Z
DTEND:20260423T130000Z
LOCATION:Green Park Conference Centre 100 Longwater Avenue Green Park\,  Reading\,  RG2 6GP
SUMMARY:Reading Business Expo
DESCRIPTION:Reading Business Expo The Chamber is delighted to be supporting
  B2B Expos once again in 2026\,  next up is the Reading Business Expo&nbsp;
 which is taking place on Thursday 23rd April 2026 at Green Park Conference 
 Centre.&nbsp; Why attend? Enjoy the opportunity to openly network with over
  250 attendees from across[..]\nhttps://www.thamesvalleychamber.co.uk/new-e
 vents/reading-business-expo-6/
URL:https://www.thamesvalleychamber.co.uk/new-events/reading-business-expo-6/
END:VEVENT
END:VCALENDAR