BEGIN:VCALENDAR
VERSION:2.0
PRODID:-//eventon.com NONSGML v1.0//EN
CALSCALE:GREGORIAN
METHOD:PUBLISH
BEGIN:VEVENT
UID:69ea003bdaab2
DTSTAMP:20260423T111923Z
DTSTART:20260417T083000Z
DTEND:20260417T100000Z
LOCATION:Thames Valley Park Thames Valley Park Drive\,  Reading\,  RG6 1RA
SUMMARY:Quarterly Economic Survey Report Briefing Q1 with Yuan Yang\,  MP
DESCRIPTION:Quarterly Economic Survey Report Briefing Q1 with Yuan Yang\,  
 MP This business briefing will examine the results of the Q1 Quarterly Econ
 omic Survey from a regional and national perspective The British Chambers o
 f Commerce (BCC) Quarterly Economic Survey (QES) is the largest independent
  business survey in the UK and a[..]\nhttps://www.thamesvalleychamber.co.uk
 /new-events/quartey-economic-survey-report-briefing-q1-with-mp-yuan-yang/
URL:https://www.thamesvalleychamber.co.uk/new-events/quartey-economic-survey-report-briefing-q1-with-mp-yuan-yang/
END:VEVENT
END:VCALENDAR