BEGIN:VCALENDAR
VERSION:2.0
PRODID:-//eventon.com NONSGML v1.0//EN
CALSCALE:GREGORIAN
METHOD:PUBLISH
BEGIN:VEVENT
UID:69e9ef84eb271
DTSTAMP:20260423T100804Z
DTSTART:20261015T173000Z
DTEND:20261015T203000Z
LOCATION:Danesfield House Hotel Henley Road\,  Marlow\,  Buckinghamshire\,  SL7 2EY
SUMMARY:Business Alliance Dinner
DESCRIPTION:Business Alliance Dinner Keynote Speaker We are delighted to we
 lcome&nbsp;Tomer Feffer\,  CEO\,  Bayer&nbsp;who will deliver the keynote a
 ddress. Part of the series of events open to our Business Alliance members\
 ,  this Dinner offers a unique opportunity to connect with fellow&nbsp; mem
 bers and enjoy an evening of thought-provoking discussion and networking.[.
 .]\nhttps://www.thamesvalleychamber.co.uk/new-events/business-alliance-dinn
 er-10/
URL:https://www.thamesvalleychamber.co.uk/new-events/business-alliance-dinner-10/
END:VEVENT
END:VCALENDAR