BEGIN:VCALENDAR
VERSION:2.0
PRODID:-//eventon.com NONSGML v1.0//EN
CALSCALE:GREGORIAN
METHOD:PUBLISH
BEGIN:VEVENT
UID:69e9ea84bb76e
DTSTAMP:20260423T094644Z
DTSTART:20260618T173000Z
DTEND:20260618T203000Z
LOCATION:Cliveden House Cliveden Road\,  Taplow\,  MAIDENHEAD\,  Berkshire\,  SL6 0JF
SUMMARY:Business Alliance Dinner
DESCRIPTION:Business Alliance Dinner Keynote Speaker We are delighted to we
 lcome&nbsp;Paul Lindley\,  Chancellor\,  University of Reading&nbsp;who wil
 l deliver the keynote address. Part of the series of events open to our Bus
 iness Alliance members\,  this Dinner offers a unique opportunity to connec
 t with fellow members and enjoy an evening of thought-provoking discussion[
 ..]\nhttps://www.thamesvalleychamber.co.uk/new-events/business-alliance-din
 ner-9/
URL:https://www.thamesvalleychamber.co.uk/new-events/business-alliance-dinner-9/
END:VEVENT
END:VCALENDAR