BEGIN:VCALENDAR
VERSION:2.0
PRODID:-//eventon.com NONSGML v1.0//EN
CALSCALE:GREGORIAN
METHOD:PUBLISH
BEGIN:VEVENT
UID:69e9eb34c2dcb
DTSTAMP:20260423T094940Z
DTSTART:20260512T080000Z
DTEND:20260512T130000Z
LOCATION:Becton\,  Dickinson U.K. Limited 1030 Eskdale Road Winnersh Triangle\,  Wokingham Berkshire\,  RG41 5TS
SUMMARY:Thames Valley Growth Conference
DESCRIPTION:Thames Valley Growth Conference Delivering the ambition for a g
 reener\,  healthier and more prosperous Thames Valley The Thames Valley has
  an impressive standing as one of the most successful business locations in
  Europe\,  and yet our business community is not immune to the challenges a
 nd uncertain environment in which we[..]\nhttps://www.thamesvalleychamber.c
 o.uk/new-events/thames-valley-growth-conference-2/
URL:https://www.thamesvalleychamber.co.uk/new-events/thames-valley-growth-conference-2/
END:VEVENT
END:VCALENDAR