BEGIN:VCALENDAR
VERSION:2.0
PRODID:-//eventon.com NONSGML v1.0//EN
CALSCALE:GREGORIAN
METHOD:PUBLISH
BEGIN:VEVENT
UID:69ea010be591f
DTSTAMP:20260423T112251Z
DTSTART:20260227T181500Z
DTEND:20260227T213000Z
LOCATION:Swindon Wildcats Ice Hockey Club\,  The Link Centre\,  Whitehill Way\,  West Swindon\,  SN5 7DL
SUMMARY:Chamber Networking Evening with Swindon Wildcats vs Bristol Pitbulls
DESCRIPTION:Join the Thames Valley Chamber of Commerce for a unique network
 ing experience that combines business conversations with the excitement of 
 live sport! For the first time\,  we’re partnering with the Swindon Wildc
 ats Ice Hockey Team to host an exclusive Chamber networking evening during 
 their NIHL National Division fixture against the[..]\nhttps://www.thamesval
 leychamber.co.uk/new-events/chamber-networking-evening-with-swindon-wildcat
 s-vs-bristol-pitbulls/
URL:https://www.thamesvalleychamber.co.uk/new-events/chamber-networking-evening-with-swindon-wildcats-vs-bristol-pitbulls/
END:VEVENT
END:VCALENDAR