BEGIN:VCALENDAR
VERSION:2.0
PRODID:-//eventon.com NONSGML v1.0//EN
CALSCALE:GREGORIAN
METHOD:PUBLISH
BEGIN:VEVENT
UID:69ea1400dd5a2
DTSTAMP:20260423T124344Z
DTSTART:20260226T110000Z
DTEND:20260226T120000Z
LOCATION:
SUMMARY:Trade Question Time - Current Topic: Preferential Origin
DESCRIPTION:Trade Question Time&nbsp; Current Topic: Preferential Origin &n
 bsp; Not sure about Preferential Origins? For smooth UK and global trade\, 
  correctly claiming preferential origin is essential. It helps you access r
 educed tariffs\,  stay compliant with trade agreements\,  and keep your goo
 ds moving cost‑effectively across borders. Join our monthly Trade Questio
 n Time\, [..]\nhttps://www.thamesvalleychamber.co.uk/new-events/trade-quest
 ion-time-current-topic-preferential-origin-2/
URL:https://www.thamesvalleychamber.co.uk/new-events/trade-question-time-current-topic-preferential-origin-2/
END:VEVENT
END:VCALENDAR