BEGIN:VCALENDAR
VERSION:2.0
PRODID:-//eventon.com NONSGML v1.0//EN
CALSCALE:GREGORIAN
METHOD:PUBLISH
BEGIN:VEVENT
UID:69ea2faeaf4c0
DTSTAMP:20260423T144150Z
DTSTART:20260122T110000Z
DTEND:20260122T120000Z
LOCATION:
SUMMARY:Trade Question Time - Current Topic: Commodity Codes and Classification
DESCRIPTION:Trade Question Time&nbsp; Current Topic: Commodity Codes and Cl
 assification &nbsp; Not sure about Commodity codes and classification? For 
 smooth UK and global trade\,  correctly claiming preferential origin is ess
 ential. It helps you access reduced tariffs\,  stay compliant with trade ag
 reements\,  and keep your goods moving cost‑effectively across borders. J
 oin our[..]\nhttps://www.thamesvalleychamber.co.uk/new-events/trade-questio
 n-time-current-topic-commodity-codes-and-classification/
URL:https://www.thamesvalleychamber.co.uk/new-events/trade-question-time-current-topic-commodity-codes-and-classification/
END:VEVENT
END:VCALENDAR