BEGIN:VCALENDAR
VERSION:2.0
PRODID:-//eventon.com NONSGML v1.0//EN
CALSCALE:GREGORIAN
METHOD:PUBLISH
BEGIN:VEVENT
UID:69ea48760ca96
DTSTAMP:20260423T162734Z
DTSTART:20260402T083000Z
DTEND:20260402T143000Z
LOCATION:Virtual
SUMMARY:Introduction to Customs Declarations in CDS
DESCRIPTION:Introduction to Customs Declarations in CDS Are you a customs a
 gent? Or does your company use customs agents and intermediaries to help yo
 u trade with the EU and the Rest of the World? If so\,  you need to know ho
 w to meet customs requirements fast and efficiently now the new[..]\nhttps:
 //www.thamesvalleychamber.co.uk/new-events/introduction-to-customs-declarat
 ions-in-cds-17/
URL:https://www.thamesvalleychamber.co.uk/new-events/introduction-to-customs-declarations-in-cds-17/
END:VEVENT
END:VCALENDAR