BEGIN:VCALENDAR
VERSION:2.0
PRODID:-//eventon.com NONSGML v1.0//EN
CALSCALE:GREGORIAN
METHOD:PUBLISH
BEGIN:VEVENT
UID:69e9e99537711
DTSTAMP:20260423T094245Z
DTSTART:20261120T130000Z
DTEND:20261120T153000Z
LOCATION:Park House\,  The University of Reading\,  Whiteknights Campus READING\,  Berkshire\,  RG6 6AH
SUMMARY:Thames Valley Assembly Parliamentary Question Time
DESCRIPTION:Thames Valley Assembly Parliamentary Question Time&nbsp; The Pa
 rliamentary Question Time (PQT) will provide opportunity for businesses to 
 engage with Parliamentarians on what is important for the future competitiv
 eness of the Thames Valley. This event is brought to you through the work o
 f the Thames Valley Assembly&nbsp;which helps deliver the voice[..]\nhttps:
 //www.thamesvalleychamber.co.uk/new-events/thames-valley-assembly-parliamen
 tary-question-time-4/
URL:https://www.thamesvalleychamber.co.uk/new-events/thames-valley-assembly-parliamentary-question-time-4/
END:VEVENT
END:VCALENDAR