BEGIN:VCALENDAR
VERSION:2.0
PRODID:-//eventon.com NONSGML v1.0//EN
CALSCALE:GREGORIAN
METHOD:PUBLISH
BEGIN:VEVENT
UID:69ea37272aba5
DTSTAMP:20260423T151343Z
DTSTART:20261014T083000Z
DTEND:20261014T113000Z
LOCATION:Virtual
SUMMARY:Methods of Payment & Letters of Credit
DESCRIPTION:Methods of Payment &amp; Letters of Credit BCC Foundation Award
  – All day course (2 modules)&nbsp; This course is suitable for those wor
 king in International Trade and are involved in the management and presenta
 tion of Letters of Credit. The course provides an overview of all methods o
 f payment when trading[..]\nhttps://www.thamesvalleychamber.co.uk/new-event
 s/methods-of-payment-letters-of-credit-5/
URL:https://www.thamesvalleychamber.co.uk/new-events/methods-of-payment-letters-of-credit-5/
END:VEVENT
END:VCALENDAR