BEGIN:VCALENDAR
VERSION:2.0
PRODID:-//eventon.com NONSGML v1.0//EN
CALSCALE:GREGORIAN
METHOD:PUBLISH
BEGIN:VEVENT
UID:69e8f85a1d379
DTSTAMP:20260422T163330Z
DTSTART:20250918T083000Z
DTEND:20250918T103000Z
LOCATION:The Leys College\,  Cuddesdon Way\,  Oxford OX4 6HN
SUMMARY:Manufacturing and Engineering Workforce Development Partnership Meeting
DESCRIPTION:Manufacturing and Engineering Workforce Development Partnership
  Meeting A vital element of the LSIP Roadmap of Actions is forming a series
  of&nbsp;Workforce Development Partnerships.&nbsp;These will serve as colla
 borative forums bringing together education/training providers and employer
 s to address workforce development challenges and formulate effective solut
 ions. Their primary objective is to foster dialogue\, [..]\nhttps://www.tha
 mesvalleychamber.co.uk/new-events/manufacturing-and-engineering-workforce-d
 evelopment-partnership-meeting-4/
URL:https://www.thamesvalleychamber.co.uk/new-events/manufacturing-and-engineering-workforce-development-partnership-meeting-4/
END:VEVENT
END:VCALENDAR