BEGIN:VCALENDAR
VERSION:2.0
PRODID:-//eventon.com NONSGML v1.0//EN
CALSCALE:GREGORIAN
METHOD:PUBLISH
BEGIN:VEVENT
UID:69e90bbb7f462
DTSTAMP:20260422T175611Z
DTSTART:20250924T083000Z
DTEND:20250924T113000Z
LOCATION:Hampton by Hilton High Wycombe Handy Cross\,  High Wycombe HP11 1UP
SUMMARY:HR Forum: Equity\,  Diversity and Inclusion in a changing world
DESCRIPTION:HR Forum: Equity\,  Diversity and Inclusion in a changing world
  Our HR Forum\,  sponsored by BP Collins\,  brings together senior HR pract
 itioners from our larger members to hear the latest HR trends\,  share know
 ledge\,  learn from first-hand experience\,  and exchange opinions with oth
 er like-minded professionals from across all sectors. For[..]\nhttps://www.
 thamesvalleychamber.co.uk/new-events/hr-forum-equality-diversity-and-inclus
 ion-in-a-changing-world/
URL:https://www.thamesvalleychamber.co.uk/new-events/hr-forum-equality-diversity-and-inclusion-in-a-changing-world/
END:VEVENT
END:VCALENDAR