BEGIN:VCALENDAR
VERSION:2.0
PRODID:-//eventon.com NONSGML v1.0//EN
CALSCALE:GREGORIAN
METHOD:PUBLISH
BEGIN:VEVENT
UID:69e67c6d72b76
DTSTAMP:20260420T192013Z
DTSTART:20250425T090000Z
DTEND:20250425T110000Z
LOCATION:https://us02web.zoom.us/meeting/register/tZYvcuqsrzIuH92ptrwvRBs9pmnrdKqhsGeI
SUMMARY:Free Mastermind9 Session
DESCRIPTION:Free Mastermind9 Session Thames Valley Chamber of Commerce have
  partnered with Mastermind9 to help you to grow your business through innov
 ation\,  new opportunities\,  goal attainment\,  confidence\,  and collabor
 ation. Benefits include monthly peer advisory meetings\,  bi-weekly online 
 networking\,  quarterly business planning workshops\,  company membership a
 t The Alliance\,  facilitated introductions\,  1-2-1 ad[..]\nhttps://www.th
 amesvalleychamber.co.uk/new-events/free-mastermind9-session/
URL:https://www.thamesvalleychamber.co.uk/new-events/free-mastermind9-session/
END:VEVENT
END:VCALENDAR