BEGIN:VCALENDAR
VERSION:2.0
PRODID:-//eventon.com NONSGML v1.0//EN
CALSCALE:GREGORIAN
METHOD:PUBLISH
BEGIN:VEVENT
UID:69eaac4e96dc4
DTSTAMP:20260423T233334Z
DTSTART:20250508T110000Z
DTEND:20250508T120000Z
LOCATION:Virtual
SUMMARY:ESG & Beyond - Adapting to the New Global Sustainability landscape
DESCRIPTION:ESG &amp; Beyond &#8211; Adapting to the New Global Sustainabil
 ity landscape Chambers Trade Academy As part of our commitment to support b
 usinesses to navigate their international trade journey\,  we are pleased t
 o launch a series of free virtual sessions in partnership with a selected g
 roup of UK Chambers across the[..]\nhttps://www.thamesvalleychamber.co.uk/n
 ew-events/esg-beyond-adapting-to-the-new-global-sustainability-landscape/
URL:https://www.thamesvalleychamber.co.uk/new-events/esg-beyond-adapting-to-the-new-global-sustainability-landscape/
END:VEVENT
END:VCALENDAR