BEGIN:VCALENDAR
VERSION:2.0
PRODID:-//eventon.com NONSGML v1.0//EN
CALSCALE:GREGORIAN
METHOD:PUBLISH
BEGIN:VEVENT
UID:69ea965719a86
DTSTAMP:20260423T215951Z
DTSTART:20250709T090000Z
DTEND:20250709T110000Z
LOCATION:Buckinghamshire New University - High Wycombe Campus Queen Alexandra Road\,  High Wycombe\,  Buckinghamshire\,  HP11 2JZ
SUMMARY:Buckinghamshire Business Networking and Meet The Chamber
DESCRIPTION:Buckinghamshire Business Networking and Meet the Chamber Bring 
 your company banner and join us for some quality business networking at the
  new location of Buckinghamshire New University. Grab the opportunity to ge
 t the latest news and updates from the Chamber\,  whilst doing some all imp
 ortant networking with businesses from across[..]\nhttps://www.thamesvalley
 chamber.co.uk/new-events/buckinghamshire-business-networking-and-meet-the-c
 hamber-4/
URL:https://www.thamesvalleychamber.co.uk/new-events/buckinghamshire-business-networking-and-meet-the-chamber-4/
END:VEVENT
END:VCALENDAR