BEGIN:VCALENDAR
VERSION:2.0
PRODID:-//eventon.com NONSGML v1.0//EN
CALSCALE:GREGORIAN
METHOD:PUBLISH
BEGIN:VEVENT
UID:69ea54d34a72a
DTSTAMP:20260423T172019Z
DTSTART:20250717T083000Z
DTEND:20250717T103000Z
LOCATION:Berkshire Youth Waterside Centre Waldegrave Place\,  Northbrook Street\,  Newbury\,  RG14 1DS
SUMMARY:Newbury Business Networking and Meet The Chamber
DESCRIPTION:Newbury Business Networking and Meet The Chamber Join us for a 
 special Meet the Chamber event at the Berkshire Youth Waterside Centre\,  s
 ituated in the centre of Newbury.&nbsp; Berkshire Youth\,  celebrating 85th
  birthday\,  are delighted to host and Chamber members and guests are encou
 raged to bring pop-up banners to showcase[..]\nhttps://www.thamesvalleycham
 ber.co.uk/new-events/newbury-business-networking-and-meet-the-chamber-3/
URL:https://www.thamesvalleychamber.co.uk/new-events/newbury-business-networking-and-meet-the-chamber-3/
END:VEVENT
END:VCALENDAR