BEGIN:VCALENDAR
VERSION:2.0
PRODID:-//eventon.com NONSGML v1.0//EN
CALSCALE:GREGORIAN
METHOD:PUBLISH
BEGIN:VEVENT
UID:69ea6a2258e7d
DTSTAMP:20260423T185114Z
DTSTART:20250411T083000Z
DTEND:20250411T113000Z
LOCATION:Hampton by Hilton High Wycombe Handy Cross\,  High Wycombe HP11 1UP
SUMMARY:HR Forum: Multi-Generational Working
DESCRIPTION:HR Forum: Multi-Generational Working Our HR Forum\,  sponsored 
 by BP Collins\,  brings together senior HR practitioners from our larger me
 mbers to hear the latest HR trends\,  share knowledge\,  learn from first-h
 and experience\,  and exchange opinions with other like-minded professional
 s from across all sectors. For the second HR Forum of the[..]\nhttps://www.
 thamesvalleychamber.co.uk/new-events/hr-forum-multi-generational-working/
URL:https://www.thamesvalleychamber.co.uk/new-events/hr-forum-multi-generational-working/
END:VEVENT
END:VCALENDAR