BEGIN:VCALENDAR
VERSION:2.0
PRODID:-//eventon.com NONSGML v1.0//EN
CALSCALE:GREGORIAN
METHOD:PUBLISH
BEGIN:VEVENT
UID:69ea7da2da6ce
DTSTAMP:20260423T201426Z
DTSTART:20250507T083000Z
DTEND:20250507T110000Z
LOCATION:The Caversham Golf Club Chazey Heath\,  READING\,  Berkshire\,  RG4 7UT
SUMMARY:Business 101 - From Values to Action: Cultivating a Sustainable Workplace Culture
DESCRIPTION:Business 101 Roundtable From Values to Action: Cultivating a Su
 stainable Workplace Culture Business planning is critical for the success o
 f a small business. It provides a roadmap for navigating challenges\,  seiz
 ing opportunities\,  and achieving sustainable growth. A strong company cul
 ture can lead to positive outcomes such as increased productivity and[..]\n
 https://www.thamesvalleychamber.co.uk/new-events/business-101-from-values-t
 o-action-cultivating-a-sustainable-workplace-culture/
URL:https://www.thamesvalleychamber.co.uk/new-events/business-101-from-values-to-action-cultivating-a-sustainable-workplace-culture/
END:VEVENT
END:VCALENDAR