BEGIN:VCALENDAR
VERSION:2.0
PRODID:-//eventon.com NONSGML v1.0//EN
CALSCALE:GREGORIAN
METHOD:PUBLISH
BEGIN:VEVENT
UID:69e74ff3cdb08
DTSTAMP:20260421T102243Z
DTSTART:20250304T100000Z
DTEND:20250304T110000Z
LOCATION:https://us02web.zoom.us/meeting/register/tZAkce-qqTstGdAc_eOhl3QuIdfBBu-Qq0-o
SUMMARY:Virtual Member Networking Event
DESCRIPTION:One of the benefits of being a member of the Chamber is that yo
 u are part of a network that covers the whole of the Thames Valley\,  encom
 passing Berkshire\,  Buckinghamshire\,  Swindon and West Berkshire. Travell
 ing to individual networking events is time consuming\,  so you are invited
  to join a virtual[..]\nhttps://www.thamesvalleychamber.co.uk/new-events/vi
 rtual-member-networking-event-6/
URL:https://www.thamesvalleychamber.co.uk/new-events/virtual-member-networking-event-6/
END:VEVENT
END:VCALENDAR