BEGIN:VCALENDAR
VERSION:2.0
PRODID:-//eventon.com NONSGML v1.0//EN
CALSCALE:GREGORIAN
METHOD:PUBLISH
BEGIN:VEVENT
UID:69e76a8a37d3d
DTSTAMP:20260421T121610Z
DTSTART:20250131T130000Z
DTEND:20250131T150000Z
LOCATION:Park House\,  The University of Reading\,  Whiteknights Campus READING\,  Berkshire\,  RG6 6AH
SUMMARY:Thames Valley Assembly Parliamentary Question Time
DESCRIPTION:Thames Valley Assembly Parliamentary Question Time&nbsp; The Pa
 rliamentary Question Time (PQT) will provide opportunity for businesses to 
 engage with Parliamentarians on what is important for the future competitiv
 eness of the Thames Valley. This event is brought to you through the work o
 f the TVCC Thames Valley Assembly which helps deliver[..]\nhttps://www.tham
 esvalleychamber.co.uk/new-events/thames-valley-assembly-parliamentary-quest
 ion-time-2/
URL:https://www.thamesvalleychamber.co.uk/new-events/thames-valley-assembly-parliamentary-question-time-2/
END:VEVENT
END:VCALENDAR